BEGIN:VCALENDAR
VERSION:2.0
PRODID:-//RIGHTHERE//CALENDARIZE IT V3.2//EN
BEGIN:VEVENT
UID:1429-events@www.befs.org.uk
DTSTART;VALUE=DATE:20170329
DTEND;VALUE=DATE:20170331
DTSTAMP:20170302T122759Z
SUMMARY:Financing the Historic Environment
URL:https://www.befs.org.uk/events/financing-the-historic-environment/
END:VEVENT
END:VCALENDAR