BEGIN:VCALENDAR
VERSION:2.0
PRODID:-//RIGHTHERE//CALENDARIZE IT V3.2//EN
BEGIN:VEVENT
UID:2541-events@www.befs.org.uk
DTSTART;VALUE=DATE:20180315
DTEND;VALUE=DATE:20180315
DTSTAMP:20180215T163358Z
SUMMARY:Historic Environment Scotland Policy Statement Conference
URL:https://www.befs.org.uk/events/historic-environment-scotland-policy-sta
 tement-conference/
END:VEVENT
END:VCALENDAR