BEGIN:VCALENDAR
VERSION:2.0
PRODID:-//RIGHTHERE//CALENDARIZE IT V3.2//EN
BEGIN:VEVENT
UID:4531-events@www.befs.org.uk
DTSTART;VALUE=DATE:20190315
DTEND;VALUE=DATE:20190315
DTSTAMP:20190226T101542Z
SUMMARY:Training: Future-proofing our heritage – the role of maintenance 
 in mitigating the effects of climate change
URL:https://www.befs.org.uk/events/future-proofing-our-heritage-the-role-of
 -maintenance-in-mitigating-the-effects-of-climate-change/
END:VEVENT
END:VCALENDAR