BEGIN:VCALENDAR
VERSION:2.0
PRODID:-//RIGHTHERE//CALENDARIZE IT V3.2//EN
BEGIN:VEVENT
UID:4898-events@www.befs.org.uk
DTSTART;VALUE=DATE:20190528
DTEND;VALUE=DATE:20190530
DTSTAMP:20190502T114820Z
SUMMARY:Traditional Building Skills Demonstration at the Scottish Parliamen
 t
URL:https://www.befs.org.uk/events/traditional-building-skills-demonstratio
 n-at-the-scottish-parliament/
END:VEVENT
END:VCALENDAR