BEGIN:VCALENDAR
VERSION:2.0
PRODID:-//RIGHTHERE//CALENDARIZE IT V3.2//EN
BEGIN:VEVENT
UID:5391-events@www.befs.org.uk
DTSTART;VALUE=DATE:20191007
DTEND;VALUE=DATE:20191007
DTSTAMP:20190814T114140Z
SUMMARY:AHSS Lecture with Kirsten Carter McKee
URL:https://www.befs.org.uk/events/ahss-lecture-with-kirsten-carter-mckee/
END:VEVENT
END:VCALENDAR