BEGIN:VCALENDAR
VERSION:2.0
PRODID:-//RIGHTHERE//CALENDARIZE IT V3.2//EN
BEGIN:VEVENT
UID:5442-events@www.befs.org.uk
DTSTART;VALUE=DATE:20190903
DTEND;VALUE=DATE:20190903
DTSTAMP:20190822T120600Z
SUMMARY:Masterplanning\, Scalability & Complexity
URL:https://www.befs.org.uk/events/masterplanning-scalability-complexity/
END:VEVENT
END:VCALENDAR