BEGIN:VCALENDAR
VERSION:2.0
PRODID:-//RIGHTHERE//CALENDARIZE IT V3.2//EN
BEGIN:VEVENT
UID:5496-events@www.befs.org.uk
DTSTART;VALUE=DATE:20191029
DTEND;VALUE=DATE:20191029
DTSTAMP:20190905T151739Z
SUMMARY:Climate Change\, Conservation & Conservative Repairs
URL:https://www.befs.org.uk/events/climate-change-conservation-conservative
 -repairs/
END:VEVENT
END:VCALENDAR