BEGIN:VCALENDAR
VERSION:2.0
PRODID:-//RIGHTHERE//CALENDARIZE IT V3.2//EN
BEGIN:VEVENT
UID:5656-events@www.befs.org.uk
DTSTART;VALUE=DATE:20200203
DTEND;VALUE=DATE:20200203
DTSTAMP:20191106T113421Z
SUMMARY:Edwin Smith\, a genius at photography
URL:https://www.befs.org.uk/events/edwin-smith-a-genius-at-photography/
END:VEVENT
END:VCALENDAR