BEGIN:VCALENDAR
VERSION:2.0
PRODID:-//RIGHTHERE//CALENDARIZE IT V3.2//EN
BEGIN:VEVENT
UID:6518-events@www.befs.org.uk
DTSTART;VALUE=DATE:20200519
DTEND;VALUE=DATE:20200519
DTSTAMP:20200507T144317Z
SUMMARY:New Design for Old Buildings
URL:https://www.befs.org.uk/events/new-design-for-old-buildings/
END:VEVENT
END:VCALENDAR