BEGIN:VCALENDAR
VERSION:2.0
PRODID:-//RIGHTHERE//CALENDARIZE IT V3.2//EN
BEGIN:VEVENT
UID:7301-events@www.befs.org.uk
DTSTART;VALUE=DATE:20201124
DTEND;VALUE=DATE:20201124
DTSTAMP:20201119T132652Z
SUMMARY:An Introduction to Caring for Your Old Building
URL:https://www.befs.org.uk/events/an-introduction-to-caring-for-your-old-b
 uilding/
END:VEVENT
END:VCALENDAR