BEGIN:VCALENDAR
VERSION:2.0
PRODID:-//RIGHTHERE//CALENDARIZE IT V3.2//EN
BEGIN:VEVENT
UID:7334-events@www.befs.org.uk
DTSTART;VALUE=DATE:20201207
DTEND;VALUE=DATE:20201207
DTSTAMP:20201201T180112Z
SUMMARY:Dunglass Harbour: Its History\, Repair and Management
URL:https://www.befs.org.uk/events/dunglass-harbour-its-history-repair-and-
 management/
END:VEVENT
END:VCALENDAR